BEGIN:VCALENDAR
VERSION:2.0
PRODID:-//Genealogical Society of Ireland - ECPv6.11.2//NONSGML v1.0//EN
CALSCALE:GREGORIAN
METHOD:PUBLISH
X-WR-CALNAME:Genealogical Society of Ireland
X-ORIGINAL-URL:https://familyhistory.ie
X-WR-CALDESC:Events for Genealogical Society of Ireland
REFRESH-INTERVAL;VALUE=DURATION:PT1H
X-Robots-Tag:noindex
X-PUBLISHED-TTL:PT1H
BEGIN:VTIMEZONE
TZID:Europe/Dublin
BEGIN:DAYLIGHT
TZOFFSETFROM:+0000
TZOFFSETTO:+0100
TZNAME:IST
DTSTART:20260329T010000
END:DAYLIGHT
BEGIN:STANDARD
TZOFFSETFROM:+0100
TZOFFSETTO:+0000
TZNAME:GMT
DTSTART:20261025T010000
END:STANDARD
END:VTIMEZONE
BEGIN:VEVENT
DTSTART;TZID=Europe/Dublin:20260402T190000
DTEND;TZID=Europe/Dublin:20260402T210000
DTSTAMP:20260424T111740
CREATED:20260326T104109Z
LAST-MODIFIED:20260326T104109Z
UID:37857-1775156400-1775163600@familyhistory.ie
SUMMARY:GSI Board Meeting
DESCRIPTION:First meeting of the newly elected Board of Directors.  The Company Secretary will convene the meeting\, confirm the results of the election at the Annual General Meeting and hand over to An Cathaoirleach (Chairperson). Portfolios will be allocated at this meeting. Information will be published in the ‘Gazette’.
URL:https://familyhistory.ie/event/gsi-board-meeting-10/
END:VEVENT
END:VCALENDAR