BEGIN:VCALENDAR
VERSION:2.0
PRODID:-//Genealogical Society of Ireland - ECPv6.11.2//NONSGML v1.0//EN
CALSCALE:GREGORIAN
METHOD:PUBLISH
X-WR-CALNAME:Genealogical Society of Ireland
X-ORIGINAL-URL:https://familyhistory.ie
X-WR-CALDESC:Events for Genealogical Society of Ireland
REFRESH-INTERVAL;VALUE=DURATION:PT1H
X-Robots-Tag:noindex
X-PUBLISHED-TTL:PT1H
BEGIN:VTIMEZONE
TZID:Europe/Dublin
BEGIN:DAYLIGHT
TZOFFSETFROM:+0000
TZOFFSETTO:+0100
TZNAME:IST
DTSTART:20260329T010000
END:DAYLIGHT
BEGIN:STANDARD
TZOFFSETFROM:+0100
TZOFFSETTO:+0000
TZNAME:GMT
DTSTART:20261025T010000
END:STANDARD
END:VTIMEZONE
BEGIN:VEVENT
DTSTART;TZID=Europe/Dublin:20260401T103000
DTEND;TZID=Europe/Dublin:20260401T170000
DTSTAMP:20260422T115620
CREATED:20260326T103736Z
LAST-MODIFIED:20260326T103736Z
UID:37855-1775039400-1775062800@familyhistory.ie
SUMMARY:An Daonchartlann - CLOSED : DÚNTA
DESCRIPTION:Closed today due to staff shortage
URL:https://familyhistory.ie/event/an-daonchartlann-closed-dunta/
END:VEVENT
END:VCALENDAR